BEGIN:VCALENDAR
VERSION:2.0
PRODID:icalendar-ruby
CALSCALE:GREGORIAN
METHOD:PUBLISH
BEGIN:VEVENT
DTSTAMP:20260421T103125Z
UID:6-572328@kaleodes.tithelysetup5.com
DTSTART:20260712T150000Z
DTEND:20260712T170000Z
CLASS:PUBLIC
CREATED:20260420T184854
DESCRIPTION:
LAST-MODIFIED:20260420T184854
LOCATION:121 s 11th St. Suite 300 West Des Moines Iowa 50265
SUMMARY:Church meeting
URL;VALUE=URI:https://www.kaleodsm.org/events/church-meeting/2026-07-12
END:VEVENT
END:VCALENDAR
