BEGIN:VCALENDAR
VERSION:2.0
PRODID:icalendar-ruby
CALSCALE:GREGORIAN
METHOD:PUBLISH
BEGIN:VEVENT
DTSTAMP:20260421T121708Z
UID:6-572650@kaleodes.tithelysetup5.com
DTSTART:20260719T150000Z
DTEND:20260719T170000Z
CLASS:PUBLIC
CREATED:20260421T055456
DESCRIPTION:
LAST-MODIFIED:20260421T055456
LOCATION:121 s 11th St. Suite 300 West Des Moines Iowa 50265
SUMMARY:Church meeting
URL;VALUE=URI:https://www.kaleodsm.org/events/church-meeting/2026-07-19
END:VEVENT
END:VCALENDAR
