BEGIN:VCALENDAR
VERSION:2.0
PRODID:icalendar-ruby
CALSCALE:GREGORIAN
METHOD:PUBLISH
BEGIN:VEVENT
DTSTAMP:20260421T172502Z
UID:6-573295@kaleodes.tithelysetup5.com
DTSTART:20260809T150000Z
DTEND:20260809T170000Z
CLASS:PUBLIC
CREATED:20260421T110818
DESCRIPTION:
LAST-MODIFIED:20260421T110818
LOCATION:121 s 11th St. Suite 300 West Des Moines Iowa 50265
SUMMARY:Church meeting
URL;VALUE=URI:https://www.kaleodsm.org/events/church-meeting/2026-08-09
END:VEVENT
END:VCALENDAR
