BEGIN:VCALENDAR
VERSION:2.0
PRODID:icalendar-ruby
CALSCALE:GREGORIAN
METHOD:PUBLISH
BEGIN:VEVENT
DTSTAMP:20260422T051738Z
UID:6-574263@kaleodes.tithelysetup5.com
DTSTART:20260913T150000Z
DTEND:20260913T170000Z
CLASS:PUBLIC
CREATED:20260421T190207
DESCRIPTION:
LAST-MODIFIED:20260421T190207
LOCATION:121 s 11th St. Suite 300 West Des Moines Iowa 50265
SUMMARY:Church meeting
URL;VALUE=URI:https://www.kaleodsm.org/events/church-meeting/2026-09-13
END:VEVENT
END:VCALENDAR
