BEGIN:VCALENDAR
VERSION:2.0
PRODID:icalendar-ruby
CALSCALE:GREGORIAN
METHOD:PUBLISH
BEGIN:VEVENT
DTSTAMP:20260422T112348Z
UID:6-574588@kaleodes.tithelysetup5.com
DTSTART:20261011T150000Z
DTEND:20261011T170000Z
CLASS:PUBLIC
CREATED:20260422T060111
DESCRIPTION:
LAST-MODIFIED:20260422T060111
LOCATION:121 s 11th St. Suite 300 West Des Moines Iowa 50265
SUMMARY:Church meeting
URL;VALUE=URI:https://www.kaleodsm.org/events/church-meeting/2026-10-11
END:VEVENT
END:VCALENDAR
